BEGIN:VCALENDAR
VERSION:2.0
PRODID:spatie/icalendar-generator
DESCRIPTION:Veranstaltungen von *
X-WR-CALDESC:Veranstaltungen von *
REFRESH-INTERVAL;VALUE=DURATION:PT1440M
X-PUBLISHED-TTL:PT1440M
BEGIN:VTIMEZONE
TZID:Europe/Berlin
BEGIN:STANDARD
DTSTART:20261025T030000Z
TZOFFSETFROM:+0200
TZOFFSETTO:+0100
END:STANDARD
BEGIN:DAYLIGHT
DTSTART:20270328T020000Z
TZOFFSETFROM:+0100
TZOFFSETTO:+0200
END:DAYLIGHT
END:VTIMEZONE
BEGIN:VTIMEZONE
TZID:UTC
BEGIN:STANDARD
DTSTART:20250729T015003Z
TZOFFSETFROM:+0000
TZOFFSETTO:+0000
END:STANDARD
END:VTIMEZONE
BEGIN:VEVENT
UID:648-2
DTSTAMP:20260425T015003Z
SUMMARY:Silvesterspaziergang
LOCATION:Mosel Silvesterspaziergang Dänkritzer Straße 61  Mosel  08058
ORGANIZER;CN=Katja Jähn:MAILTO:nachricht@katja-jaehn.de
DTSTART;TZID=Europe/Berlin:20261231T140000
DTEND;TZID=Europe/Berlin:20261231T160000
X-ALT-DESC;FMTTYPE=TEXT/HTML:Ich lade Euch herzlich zum Silvesterspaziergan
 g ein. Gemeinsam laufen wir im Dänkritzer Wald eine Runde. Die Nähe zu A
 rtgenossen hilft ängstlichen Hunden\, sich vor dem Silvesterlärm nochmal
 s zu lösen und sich ordentlich die Beine zu vertreten. Abschließend gibt
  es nach unseren Ausflug warme Getränke. Wir treffen uns auf dem Parkplat
 z beim Schützenverein. Anmeldeschluß ist der&amp;hellip\;
CATEGORIES:Veranstaltung
URL;VALUE=URI:https://katja-jaehn.de/mc-events/silvesterspaziergang/
METHOD:PUBLISH
END:VEVENT
END:VCALENDAR