BEGIN:VCALENDAR
VERSION:2.0
PRODID:spatie/icalendar-generator
DESCRIPTION:Veranstaltungen von *
X-WR-CALDESC:Veranstaltungen von *
REFRESH-INTERVAL;VALUE=DURATION:PT1440M
X-PUBLISHED-TTL:PT1440M
BEGIN:VTIMEZONE
TZID:Europe/Berlin
BEGIN:STANDARD
DTSTART:20251026T030000Z
TZOFFSETFROM:+0200
TZOFFSETTO:+0100
END:STANDARD
BEGIN:DAYLIGHT
DTSTART:20260329T020000Z
TZOFFSETFROM:+0100
TZOFFSETTO:+0200
END:DAYLIGHT
END:VTIMEZONE
BEGIN:VTIMEZONE
TZID:UTC
BEGIN:STANDARD
DTSTART:20250723T165332Z
TZOFFSETFROM:+0000
TZOFFSETTO:+0000
END:STANDARD
END:VTIMEZONE
BEGIN:VEVENT
UID:999-22
DTSTAMP:20260419T165332Z
SUMMARY:HT Stausee
LOCATION:Stausee Glauchau Naundorfer Wiesenweg Albertsthaler Straße Glauch
 au  08371
ORGANIZER;CN=Katja Jähn:MAILTO:nachricht@katja-jaehn.de
RRULE:FREQ=WEEKLY;UNTIL=20301231T000000Z
DTSTART;TZID=Europe/Berlin:20260412T100000
DTEND;TZID=Europe/Berlin:20260412T110000
X-ALT-DESC;FMTTYPE=TEXT/HTML:<p>Hundetreff Stausee Glauchau<br />\nFür die
  Anmeldung und weitere Infos bitte auf WEITERLESEN klicken.</p>\n
CATEGORIES:Ausbildungskurse
URL;VALUE=URI:https://katja-jaehn.de/mc-events/ht-stausee/?mc_id=999
METHOD:PUBLISH
END:VEVENT
END:VCALENDAR