BEGIN:VCALENDAR
VERSION:2.0
PRODID:spatie/icalendar-generator
DESCRIPTION:Veranstaltungen von *
X-WR-CALDESC:Veranstaltungen von *
REFRESH-INTERVAL;VALUE=DURATION:PT1440M
X-PUBLISHED-TTL:PT1440M
BEGIN:VTIMEZONE
TZID:Europe/Berlin
BEGIN:DAYLIGHT
DTSTART:20250330T020000Z
TZOFFSETFROM:+0100
TZOFFSETTO:+0200
END:DAYLIGHT
BEGIN:STANDARD
DTSTART:20251026T030000Z
TZOFFSETFROM:+0200
TZOFFSETTO:+0100
END:STANDARD
BEGIN:DAYLIGHT
DTSTART:20260329T020000Z
TZOFFSETFROM:+0100
TZOFFSETTO:+0200
END:DAYLIGHT
END:VTIMEZONE
BEGIN:VTIMEZONE
TZID:UTC
BEGIN:STANDARD
DTSTART:20250728T155008Z
TZOFFSETFROM:+0000
TZOFFSETTO:+0000
END:STANDARD
END:VTIMEZONE
BEGIN:VEVENT
UID:4-3
DTSTAMP:20260424T155008Z
SUMMARY:BiA Dogle Fit
LOCATION:Hundetrainingsplatz Bergstraße  Glauchau  08371
ORGANIZER;CN=Katja Jähn:MAILTO:nachricht@katja-jaehn.de
RRULE:FREQ=WEEKLY;UNTIL=20251216T000000Z
DTSTART;TZID=Europe/Berlin:20251215T180000
DTEND;TZID=Europe/Berlin:20251215T190000
X-ALT-DESC;FMTTYPE=TEXT/HTML:
CATEGORIES:Freizeitkurse
URL;VALUE=URI:https://katja-jaehn.de/mc-events/bia-dogle-fit/?mc_id=4
METHOD:PUBLISH
END:VEVENT
END:VCALENDAR