BEGIN:VCALENDAR
VERSION:2.0
PRODID:spatie/icalendar-generator
DESCRIPTION:Veranstaltungen von *
X-WR-CALDESC:Veranstaltungen von *
REFRESH-INTERVAL;VALUE=DURATION:PT1440M
X-PUBLISHED-TTL:PT1440M
BEGIN:VTIMEZONE
TZID:Europe/Berlin
BEGIN:STANDARD
DTSTART:20251026T030000Z
TZOFFSETFROM:+0200
TZOFFSETTO:+0100
END:STANDARD
BEGIN:DAYLIGHT
DTSTART:20260329T020000Z
TZOFFSETFROM:+0100
TZOFFSETTO:+0200
END:DAYLIGHT
BEGIN:STANDARD
DTSTART:20261025T030000Z
TZOFFSETFROM:+0200
TZOFFSETTO:+0100
END:STANDARD
END:VTIMEZONE
BEGIN:VTIMEZONE
TZID:UTC
BEGIN:STANDARD
DTSTART:20250728T154919Z
TZOFFSETFROM:+0000
TZOFFSETTO:+0000
END:STANDARD
END:VTIMEZONE
BEGIN:VEVENT
UID:1326-39
DTSTAMP:20260424T154919Z
SUMMARY:WK 1
LOCATION:Hundetrainingsplatz Bergstraße  Glauchau  08371
ORGANIZER;CN=Katja Jähn:MAILTO:nachricht@katja-jaehn.de
DTSTART;TZID=Europe/Berlin:20260516T170000
DTEND;TZID=Europe/Berlin:20260516T180000
X-ALT-DESC;FMTTYPE=TEXT/HTML:<p>Welpenkurs Stunde 1 - Hundetrainingsplatz</
 p>\n
CATEGORIES:Ausbildungskurse
URL;VALUE=URI:https://katja-jaehn.de/mc-events/wk-1/
METHOD:PUBLISH
END:VEVENT
END:VCALENDAR