BEGIN:VCALENDAR
VERSION:2.0
PRODID:spatie/icalendar-generator
DESCRIPTION:Veranstaltungen von *
X-WR-CALDESC:Veranstaltungen von *
REFRESH-INTERVAL;VALUE=DURATION:PT1440M
X-PUBLISHED-TTL:PT1440M
BEGIN:VTIMEZONE
TZID:Europe/Berlin
BEGIN:STANDARD
DTSTART:20251026T030000Z
TZOFFSETFROM:+0200
TZOFFSETTO:+0100
END:STANDARD
BEGIN:DAYLIGHT
DTSTART:20260329T020000Z
TZOFFSETFROM:+0100
TZOFFSETTO:+0200
END:DAYLIGHT
END:VTIMEZONE
BEGIN:VTIMEZONE
TZID:UTC
BEGIN:STANDARD
DTSTART:20250723T202551Z
TZOFFSETFROM:+0000
TZOFFSETTO:+0000
END:STANDARD
END:VTIMEZONE
BEGIN:VEVENT
UID:1319-41
DTSTAMP:20260419T202551Z
SUMMARY:JK 3
LOCATION:Sachsenlandhalle An der Sachsenlandhalle  Glauchau  08371
ORGANIZER;CN=Katja Jähn:MAILTO:nachricht@katja-jaehn.de
DTSTART;TZID=Europe/Berlin:20260404T153000
DTEND;TZID=Europe/Berlin:20260404T163000
X-ALT-DESC;FMTTYPE=TEXT/HTML:<p>Junghundekurs Stunde 3 - Sachsenlandhalle</
 p>\n
CATEGORIES:Ausbildungskurse
URL;VALUE=URI:https://katja-jaehn.de/mc-events/jk-3/
METHOD:PUBLISH
END:VEVENT
END:VCALENDAR