BEGIN:VCALENDAR
VERSION:2.0
PRODID:spatie/icalendar-generator
DESCRIPTION:Veranstaltungen von *
X-WR-CALDESC:Veranstaltungen von *
REFRESH-INTERVAL;VALUE=DURATION:PT1440M
X-PUBLISHED-TTL:PT1440M
BEGIN:VTIMEZONE
TZID:Europe/Berlin
BEGIN:STANDARD
DTSTART:20251026T030000Z
TZOFFSETFROM:+0200
TZOFFSETTO:+0100
END:STANDARD
BEGIN:DAYLIGHT
DTSTART:20260329T020000Z
TZOFFSETFROM:+0100
TZOFFSETTO:+0200
END:DAYLIGHT
END:VTIMEZONE
BEGIN:VTIMEZONE
TZID:UTC
BEGIN:STANDARD
DTSTART:20250728T154856Z
TZOFFSETFROM:+0000
TZOFFSETTO:+0000
END:STANDARD
END:VTIMEZONE
BEGIN:VEVENT
UID:1296-33
DTSTAMP:20260424T154856Z
SUMMARY:EH1 B3 S2
LOCATION:Stadt Glauchau P3 Hoffnung 23  Glauchau  08371
ORGANIZER;CN=Katja Jähn:MAILTO:nachricht@katja-jaehn.de
DTSTART;TZID=Europe/Berlin:20260220T153000
DTEND;TZID=Europe/Berlin:20260220T163000
X-ALT-DESC;FMTTYPE=TEXT/HTML:<p>Erwachsener Hund 1 - Block 3/ Stunde 2 - St
 adt Glauchau P3</p>\n
CATEGORIES:Ausbildungskurse
URL;VALUE=URI:https://katja-jaehn.de/mc-events/eh1-b3-s2/
METHOD:PUBLISH
END:VEVENT
END:VCALENDAR